BEGIN:VCALENDAR
VERSION:2.0
PRODID:-//ChamberMaster//Event Calendar 2.0//EN
METHOD:PUBLISH
X-PUBLISHED-TTL:P3D
REFRESH-INTERVAL:P3D
CALSCALE:GREGORIAN
BEGIN:VEVENT
DTSTART:20230117T173000Z
DTEND:20230117T180000Z
X-MICROSOFT-CDO-ALLDAYEVENT:FALSE
SUMMARY:Ribbon Cutting for LIME Painting of the Hill Country
DESCRIPTION:Join us for a ribbon cutting celebrating LIME Painting of the Hill Country!\n\n\n\nLIME delivers a wide array of services that allow you to express your creative vision for your home or business. Whether you're restoring your distressed exterior or transforming your interior space\, LIME's core values of Love\, Integrity\, Mission and Excellence shine through\, helping their highly skilled artisans and craftsmen bring your ideas to life. From interior painting and carpentry to epoxy coating and gutter replacements\, LIME offers a number of services to help you #getlimed. To get in touch with Jesse or Rachel\, owners of LIME Painting of the Hill Country\, give them a call at (830) 999-2230 or click here to check out their website!
X-ALT-DESC;FMTTYPE=text/html:<font face="arial"><span style="font-size: 14px\;">Join us for a ribbon cutting celebrating LIME Painting of the Hill Country!</span></font><br />\n<br />\n<font face="arial"><span style="font-size: 14px\;">LIME delivers a wide array of services that allow you to express your creative vision for your home or business. Whether you&#39\;re restoring your distressed exterior&nbsp\;or transforming your interior space\, LIME&#39\;s core values of Love\, Integrity\, Mission and Excellence shine through\, helping their highly skilled artisans and craftsmen bring your ideas to life. From interior painting and carpentry to epoxy coating and gutter replacements\, LIME offers a number of services to help you #getlimed. To get in touch with Jesse or Rachel\, owners of LIME Painting of the Hill Country\, give them a call at (830) 999-2230 or <a href="https://limepaintingofthehillcountry.com/">click here</a> to check out their website!</span></font>
LOCATION:Greater Boerne Chamber of Commerce 121 S Main St Boerne\, TX. 78006
UID:e.187.20721
SEQUENCE:3
DTSTAMP:20260423T071916Z
URL:https://business.boerne.org/events/details/ribbon-cutting-for-lime-painting-of-the-hill-country-20721
END:VEVENT

END:VCALENDAR
