BEGIN:VCALENDAR
VERSION:2.0
PRODID:-//ChamberMaster//Event Calendar 2.0//EN
METHOD:PUBLISH
X-PUBLISHED-TTL:P3D
REFRESH-INTERVAL:P3D
CALSCALE:GREGORIAN
BEGIN:VEVENT
DTSTART:20190507T163000Z
DTEND:20190507T170000Z
X-MICROSOFT-CDO-ALLDAYEVENT:FALSE
SUMMARY:Ribbon Cutting for Lil Explorers School of Boerne
DESCRIPTION:Join us for a ribbon cutting celebrating Lil Explorers School of Boerne!\n\n\n\nLil Explorers School of Boerne is a Reggio-Emilia Inspired School. They provide child care for Lil Explorers from infancy to elementary school age!
X-ALT-DESC;FMTTYPE=text/html:Join us for a ribbon cutting celebrating&nbsp\;Lil Explorers School of Boerne!<br />\n<br />\nLil Explorers School of Boerne is a&nbsp\;Reggio-Emilia Inspired School. They provide child care for Lil Explorers from infancy to elementary school age!
LOCATION:Lil Explorers School of Boerne 44 Old San Antonio Rd. Boerne\, TX 78006
UID:e.187.16381
SEQUENCE:3
DTSTAMP:20260419T161135Z
URL:https://business.boerne.org/events/details/ribbon-cutting-for-lil-explorers-school-of-boerne-16381
END:VEVENT

END:VCALENDAR
