BEGIN:VCALENDAR
VERSION:2.0
PRODID:-//ChamberMaster//Event Calendar 2.0//EN
METHOD:PUBLISH
X-PUBLISHED-TTL:P3D
REFRESH-INTERVAL:P3D
CALSCALE:GREGORIAN
BEGIN:VEVENT
DTSTART:20250429T183000Z
DTEND:20250429T190000Z
X-MICROSOFT-CDO-ALLDAYEVENT:FALSE
SUMMARY:Ribbon Cutting for Lacy Bridal
DESCRIPTION:Join us for a ribbon cutting celebrating Lacy Bridal!\n\n\n\nAt Lacy Bridal\, they pride themselves on offering an unparalleled bridal experience that goes above and beyond just finding a dress. From the moment you step through the doors\, you'll be greeted by their warm and knowledgeable team\, ready to guide you through every step of the process. With attention to detail and a focus on creating lasting memories\, they strive to ensure that your journey to the altar is filled with joy\, laughter and love.\n\n\n\nWEBSITE: Lacy Bridal | Bridal Store In San Antonio\n\nPHONE: (210) 750-9168\n\nLOCATION: 17803 La Cantera Terrace Suite 7110\, San Antonio\, TX 78256
X-ALT-DESC;FMTTYPE=text/html:<span style="font-family:arial\;"><span style="color:#000000\;">Join us for a ribbon cutting celebrating Lacy Bridal!<br />\n<br />\nAt Lacy Bridal\, they pride themselves on offering an unparalleled bridal experience that goes above and beyond just finding a dress. From the moment you step through the doors\, you&#39\;ll be greeted by their warm and knowledgeable team\, ready to guide you through every step of the process. With attention to detail and a focus on creating lasting memories\, they strive to ensure that your journey to the altar is filled with joy\, laughter and love.</span></span><br />\n<br />\n<span style="font-family:arial\;"><span style="color:#000000\;">WEBSITE:&nbsp\;</span></span><a href="https://lacybridal.com/">Lacy Bridal | Bridal Store In San Antonio</a><br />\n<span style="font-family:arial\;"><span style="color:#000000\;">PHONE:&nbsp\;(210) 750-9168</span></span><br />\n<span style="font-family:arial\;"><span style="color:#000000\;">LOCATION: 17803 La Cantera Terrace Suite 7110\, San Antonio\, TX 78256</span></span>
LOCATION:Lacy Bridal 17803 La Cantera Terrace Suite 7110 San Antonio\, TX 78256
UID:e.187.29216
SEQUENCE:3
DTSTAMP:20260419T143513Z
URL:https://business.boerne.org/events/details/ribbon-cutting-for-lacy-bridal-29216
END:VEVENT

END:VCALENDAR
