BEGIN:VCALENDAR
VERSION:2.0
PRODID:-//ChamberMaster//Event Calendar 2.0//EN
METHOD:PUBLISH
X-PUBLISHED-TTL:P3D
REFRESH-INTERVAL:P3D
CALSCALE:GREGORIAN
BEGIN:VEVENT
DTSTART:20170801T220000Z
DTEND:20170801T230000Z
X-MICROSOFT-CDO-ALLDAYEVENT:FALSE
SUMMARY:Ribbon Cutting for Kronkosky Place- Bingo Night
DESCRIPTION:Come join us for a Ribbon Cutting Ceremony for Rainbow Senior Center Kronkosky Place- introducing Bingo Night. (link)
X-ALT-DESC;FMTTYPE=text/html:Come join us for a Ribbon Cutting Ceremony for Rainbow Senior Center Kronkosky Place- introducing Bingo Night. (<a href="http://www.rainbowseniorcenter.com/">link</a>)
LOCATION:Rainbow Senior Center at Kronkosky Place (map) 17 Old San Antonio Rd Boerne\, TX 78006
UID:e.187.11721
SEQUENCE:3
DTSTAMP:20260423T005218Z
URL:https://business.boerne.org/events/details/ribbon-cutting-for-kronkosky-place-bingo-night-11721
END:VEVENT

END:VCALENDAR
