BEGIN:VCALENDAR
VERSION:2.0
PRODID:-//ChamberMaster//Event Calendar 2.0//EN
METHOD:PUBLISH
X-PUBLISHED-TTL:P3D
REFRESH-INTERVAL:P3D
CALSCALE:GREGORIAN
BEGIN:VEVENT
DTSTART:20181113T220000Z
DTEND:20181113T223000Z
X-MICROSOFT-CDO-ALLDAYEVENT:FALSE
SUMMARY:Ribbon Cutting for Kendall County Sheriff's Office
DESCRIPTION:Join us for a Ribbon Cutting Ceremony celebrating Kendall County's new law enforcement facilities!
X-ALT-DESC;FMTTYPE=text/html:Join us for a Ribbon Cutting Ceremony celebrating Kendall County&#39\;s new law enforcement facilities!
LOCATION:6 Staudt St. Boerne\, TX 78006
UID:e.187.15306
SEQUENCE:3
DTSTAMP:20260420T013007Z
URL:https://business.boerne.org/events/details/ribbon-cutting-for-kendall-county-sheriff-s-office-15306
END:VEVENT

END:VCALENDAR
