BEGIN:VCALENDAR
VERSION:2.0
PRODID:-//ChamberMaster//Event Calendar 2.0//EN
METHOD:PUBLISH
X-PUBLISHED-TTL:P3D
REFRESH-INTERVAL:P3D
CALSCALE:GREGORIAN
BEGIN:VEVENT
DTSTART:20191203T193000Z
DTEND:20191203T200000Z
X-MICROSOFT-CDO-ALLDAYEVENT:FALSE
SUMMARY:Ribbon Cutting for Kendall County Democratic Party's Headquarters
DESCRIPTION:Join us for a ribbon cutting celebrating the Kendall County Democratic Party's headquarters!\n\n\n\nThe Democratic Party of Kendall County believes civic engagement is the duty of each citizen to form a more perfect union. It's their mission to do the most good for the most residents of Kendall County through civic engagement. By supporting the Democratic Party and promoting Democratic candidates\, the Kendall County Democrats are striving to form a more perfect\, more just\, and more equitable union.
X-ALT-DESC;FMTTYPE=text/html:Join us for a ribbon cutting celebrating the Kendall County Democratic Party&#39\;s headquarters!<br />\n<br />\nThe Democratic Party of Kendall County believes civic engagement is the duty of each citizen to form a more perfect union. It&rsquo\;s their mission to do the most good for the most residents of Kendall County through civic engagement. By supporting the Democratic Party and promoting Democratic candidates\, the Kendall County Democrats are striving to form a more perfect\, more just\, and more equitable union.
LOCATION:518 E. Blanco Rd. Boerne\, TX 78006 (entrance in rear of building)
UID:e.187.17126
SEQUENCE:3
DTSTAMP:20260425T215302Z
URL:https://business.boerne.org/events/details/ribbon-cutting-for-kendall-county-democratic-party-s-headquarters-17126
END:VEVENT

END:VCALENDAR
