BEGIN:VCALENDAR
VERSION:2.0
PRODID:-//ChamberMaster//Event Calendar 2.0//EN
METHOD:PUBLISH
X-PUBLISHED-TTL:P3D
REFRESH-INTERVAL:P3D
CALSCALE:GREGORIAN
BEGIN:VEVENT
DTSTART:20180206T193000Z
DTEND:20180206T200000Z
X-MICROSOFT-CDO-ALLDAYEVENT:FALSE
SUMMARY:Ribbon Cutting for Kathy Bullard - Mary Kay Independent Beauty Consultant
DESCRIPTION:Come join us for the ribbon cutting for Kathy Bullard\, Mary Kay Independent Beauty Consultant.
X-ALT-DESC;FMTTYPE=text/html:Come join us for the ribbon cutting for Kathy Bullard\, Mary Kay Independent Beauty Consultant.
LOCATION:Greater Boerne Chamber of Commerce 121 S. Main St.\, Boerne\, TX 78006
UID:e.187.13507
SEQUENCE:3
DTSTAMP:20260422T135123Z
URL:https://business.boerne.org/events/details/ribbon-cutting-for-kathy-bullard-mary-kay-independent-beauty-consultant-13507
END:VEVENT

END:VCALENDAR
