BEGIN:VCALENDAR
VERSION:2.0
PRODID:-//ChamberMaster//Event Calendar 2.0//EN
METHOD:PUBLISH
X-PUBLISHED-TTL:P3D
REFRESH-INTERVAL:P3D
CALSCALE:GREGORIAN
BEGIN:VEVENT
DTSTART:20191205T173000Z
DTEND:20191205T180000Z
X-MICROSOFT-CDO-ALLDAYEVENT:FALSE
SUMMARY:Ribbon Cutting for Joli Boutique
DESCRIPTION:Join us for a ribbon cutting celebrating Joli Boutique!\n\n\n\nJoli Boutique is a great place to find anything your fashionable heart desires! Our ladies' and men's apparel includes lines that are Joli exclusives.
X-ALT-DESC;FMTTYPE=text/html:Join us for a ribbon cutting celebrating Joli Boutique!<br />\n<br />\nJoli Boutique is a great place to find anything your fashionable heart desires! Our ladies&#39\; and men&#39\;s apparel includes lines that are Joli exclusives.
LOCATION:189 S. Main St. Boerne\, TX 78006
UID:e.187.17109
SEQUENCE:3
DTSTAMP:20260425T215127Z
URL:https://business.boerne.org/events/details/ribbon-cutting-for-joli-boutique-17109
END:VEVENT

END:VCALENDAR
