BEGIN:VCALENDAR
VERSION:2.0
PRODID:-//ChamberMaster//Event Calendar 2.0//EN
METHOD:PUBLISH
X-PUBLISHED-TTL:P3D
REFRESH-INTERVAL:P3D
CALSCALE:GREGORIAN
BEGIN:VEVENT
DTSTART:20180322T215000Z
DTEND:20180322T220000Z
X-MICROSOFT-CDO-ALLDAYEVENT:FALSE
SUMMARY:Ribbon Cutting for Johnson Eye Care
DESCRIPTION:Come join us for a Ribbon Cutting for Johnson Eye Care (link)
X-ALT-DESC;FMTTYPE=text/html:Come join us for a Ribbon Cutting for Johnson Eye Care (<a href="https://johnsoneyes.com/">link</a>)
LOCATION:Johnson Eye Care 1375 S Main St. Ste. 202 Boerne\, TX 78006 (830) 428-0901
UID:e.187.13545
SEQUENCE:3
DTSTAMP:20260422T121222Z
URL:https://business.boerne.org/events/details/ribbon-cutting-for-johnson-eye-care-13545
END:VEVENT

END:VCALENDAR
