BEGIN:VCALENDAR
VERSION:2.0
PRODID:-//ChamberMaster//Event Calendar 2.0//EN
METHOD:PUBLISH
X-PUBLISHED-TTL:P3D
REFRESH-INTERVAL:P3D
CALSCALE:GREGORIAN
BEGIN:VEVENT
DTSTART:20190115T193000Z
DTEND:20190115T200000Z
X-MICROSOFT-CDO-ALLDAYEVENT:FALSE
SUMMARY:Ribbon Cutting for Jelly Spin Studio
DESCRIPTION:Join us for a ribbon cutting ceremony celebrating Jelly Spin Studio!
X-ALT-DESC;FMTTYPE=text/html:Join us for a ribbon cutting ceremony celebrating Jelly Spin Studio!
LOCATION:9091 Fair Oaks Parkway\, Ste. 206 Fair Oaks Ranch\, TX 78015
UID:e.187.15157
SEQUENCE:3
DTSTAMP:20260419T205148Z
URL:https://business.boerne.org/events/details/ribbon-cutting-for-jelly-spin-studio-15157
END:VEVENT

END:VCALENDAR
