BEGIN:VCALENDAR
VERSION:2.0
PRODID:-//ChamberMaster//Event Calendar 2.0//EN
METHOD:PUBLISH
X-PUBLISHED-TTL:P3D
REFRESH-INTERVAL:P3D
CALSCALE:GREGORIAN
BEGIN:VEVENT
DTSTART:20250417T183000Z
DTEND:20250417T190000Z
X-MICROSOFT-CDO-ALLDAYEVENT:FALSE
SUMMARY:Ribbon Cutting for J. Fox Custom Fine Jewelry
DESCRIPTION:Join us for a ribbon cutting celebrating the grand opening of J. Fox Custom Fine Jewelry's new studio!\n\n\n\nJ. Fox Custom Fine Jewelry is a premier fine jeweler specializing in handcrafted pieces that blend timeless elegance with modern artistry. With a passion for exceptional craftsmanship and personalized design\, they create stunning engagement rings\, wedding bands\, and custom jewelry tailored to each client's vision. Using the finest materials and expert techniques\, they transform precious metals and gemstones into heirloom-quality pieces that celebrate life's most meaningful moments. \n\n\n\nFollowing the ribbon cutting\, guests are invited to stay for a Grand Opening celebration! This event will include live music by David Fox\, food\, drinks\, and giveaways!\n\n\n\nWEBSITE: J. Fox Custom Fine Jewelry\n\nPHONE: (830) 331-4191\n\nLOCATION: 723 N. Main St\, Boerne\, TX 78006\n\n\n\n**Parking: overflow parking for the event is available at Wavelengths Salon\, located directly behind J. Fox Custom Fine Jewelry\, on E Frederick St.
X-ALT-DESC;FMTTYPE=text/html:<span style="color:#000000\;"><span style="font-size:14px\;">Join us for a ribbon cutting celebrating the grand opening of J. Fox Custom Fine Jewelry&#39\;s new studio!</span></span><br />\n<br />\n<font color="#000000" face="arial">J. Fox Custom Fine Jewelry is a premier fine jeweler specializing in handcrafted pieces that blend timeless elegance with modern artistry. With a passion for exceptional craftsmanship and personalized design\, they create stunning engagement rings\, wedding bands\, and custom jewelry tailored to each client&#39\;s vision. Using the finest materials and expert techniques\, they transform precious metals and gemstones into heirloom-quality pieces that celebrate life&#39\;s most meaningful moments.&nbsp\;<br />\n<br />\nFollowing the ribbon cutting\, guests are invited to stay for a Grand Opening celebration! This event will include live music by David Fox\, food\, drinks\, and giveaways!</font><br />\n<br />\n<span style="color:#000000\;"><span style="font-family:arial\;">WEBSITE:&nbsp\;</span></span><a href="https://www.jfoxcustom.com/">J. Fox Custom Fine Jewelry</a><br />\n<span style="color:#000000\;"><span style="font-family:arial\;">PHONE: (830) 331-4191<br />\nLOCATION: 723 N. Main St\, Boerne\, TX 78006</span></span><br />\n<br />\n<span style="color:#000000\;">**Parking: overflow parking for the event is available at Wavelengths Salon\, located directly behind J. Fox Custom Fine Jewelry\, on E Frederick St.</span><br />\n&nbsp\;
LOCATION:J. Fox Custom Fine Jewelry 723 N Main St Boerne\, TX 78006
UID:e.187.29239
SEQUENCE:3
DTSTAMP:20260419T143614Z
URL:https://business.boerne.org/events/details/ribbon-cutting-for-j-fox-custom-fine-jewelry-29239
END:VEVENT

END:VCALENDAR
