BEGIN:VCALENDAR
VERSION:2.0
PRODID:-//ChamberMaster//Event Calendar 2.0//EN
METHOD:PUBLISH
X-PUBLISHED-TTL:P3D
REFRESH-INTERVAL:P3D
CALSCALE:GREGORIAN
BEGIN:VEVENT
DTSTART:20170328T183000Z
DTEND:20170328T190000Z
X-MICROSOFT-CDO-ALLDAYEVENT:FALSE
SUMMARY:Ribbon Cutting for Integrated Real Estate Group
DESCRIPTION:Come join us for a Ribbon Cutting Ceremony for Integrated Real Estate Group. (link)
X-ALT-DESC;FMTTYPE=text/html:Come join us for a Ribbon Cutting Ceremony for Integrated Real Estate Group. (<a href="http://www.watercrestdominion.com/">link</a>)
LOCATION:Watercrest at Dominion 6906 Heuermann (map) San Antonio\, TX 78256
UID:e.187.11610
SEQUENCE:3
DTSTAMP:20260423T071639Z
URL:https://business.boerne.org/events/details/ribbon-cutting-for-integrated-real-estate-group-11610
END:VEVENT

END:VCALENDAR
