BEGIN:VCALENDAR
VERSION:2.0
PRODID:-//ChamberMaster//Event Calendar 2.0//EN
METHOD:PUBLISH
X-PUBLISHED-TTL:P3D
REFRESH-INTERVAL:P3D
CALSCALE:GREGORIAN
BEGIN:VEVENT
DTSTART:20260319T210000Z
DTEND:20260319T213000Z
X-MICROSOFT-CDO-ALLDAYEVENT:FALSE
SUMMARY:Ribbon Cutting for Inside 9 Golf & Social Club
DESCRIPTION:Join us for a ribbon cutting celebrating Inside 9 Golf & Social Club!\n\n\n\nInside 9 Golf & Social Club is a premium indoor golf and lifestyle venue in Boerne\, Texas\, offering golfers a high-tech\, year-round experience with world-class golf simulators that feature moving swing plates\, auto-tee systems and high-speed swing analysis. Members enjoy 24/7 access to realistic virtual rounds and exclusive leagues\, along with access to a clubhouse environment that includes a remote workspace\, member lounge\, private liquor lockers and partnerships with local restaurants for food delivery. Designed to blend sport\, socializing and work in one accessible space\, Inside 9 caters to golf enthusiasts looking for cutting-edge technology and a modern alternative to traditional country club experiences.\n\n\n\nWEBSITE: https://www.inside9tx.com/\n\nPHONE: (830) 255-7424\n\nLOCATION: 27650 IH-10 West\, Ste. 207\, Boerne\, TX. 78006
X-ALT-DESC;FMTTYPE=text/html:<span style="color:#000000\;"><span style="font-family: arial\; font-size: 14px\;">Join us for a ribbon cutting celebrating Inside 9 Golf &amp\; Social Club!</span><br />\n<br style="font-family: arial\; font-size: 14px\;" />\n<span style="font-size:14px\;"><span style="font-family:arial\;">Inside 9 Golf &amp\; Social Club is a premium indoor golf and lifestyle venue in Boerne\, Texas\, offering golfers a high-tech\, year-round experience with world-class golf simulators that feature moving swing plates\, auto-tee systems and high-speed swing analysis. Members enjoy 24/7 access to realistic virtual rounds and exclusive leagues\, along with access to a clubhouse environment that includes a remote workspace\, member lounge\, private liquor lockers and partnerships with local restaurants for food delivery. Designed to blend sport\, socializing and work in one accessible space\, Inside 9 caters to golf enthusiasts looking for cutting-edge technology and a modern alternative to traditional country club experiences.</span></span><br />\n<br />\n<span style="font-size:14px\;"><span style="font-family:arial\;">WEBSITE:&nbsp\;</span></span></span><a href="https://www.inside9tx.com/">https://www.inside9tx.com/</a><br />\n<span style="color:#000000\;"><span style="font-size:14px\;"><span style="font-family:arial\;">PHONE: (830) 255-7424<br />\nLOCATION: 27650 IH-10 West\, Ste. 207\, Boerne\, TX. 78006</span></span></span>
LOCATION:Inside 9 Golf & Social Club 27650 IH-10 West\, Ste. 207 Boerne\, TX. 78006
UID:e.187.32277
SEQUENCE:3
DTSTAMP:20260420T070535Z
URL:https://business.boerne.org/events/details/ribbon-cutting-for-inside-9-golf-social-club-32277
END:VEVENT

END:VCALENDAR
