BEGIN:VCALENDAR
VERSION:2.0
PRODID:-//ChamberMaster//Event Calendar 2.0//EN
METHOD:PUBLISH
X-PUBLISHED-TTL:P3D
REFRESH-INTERVAL:P3D
CALSCALE:GREGORIAN
BEGIN:VEVENT
DTSTART:20191010T163000Z
DTEND:20191010T170000Z
X-MICROSOFT-CDO-ALLDAYEVENT:FALSE
SUMMARY:Ribbon Cutting for Inferno's Wood Fired Oven & Spirits
DESCRIPTION:Join us for a ribbon cutting celebrating Infernos Wood Fired Oven & Spirits!\n\n\n\nInfernos Wood Fired Oven & Spirits specializes in artisan-style pizza\, fresh salads and unique sandwiches. They offer a full bar with liquor\, beer and win\, as well as a fun\, family-friendly environment with live music on the weekends and daily specials.
X-ALT-DESC;FMTTYPE=text/html:Join us for a ribbon cutting celebrating&nbsp\;Infernos Wood Fired Oven &amp\; Spirits!<br />\n<br />\nInfernos Wood Fired Oven &amp\; Spirits specializes in artisan-style pizza\, fresh salads and unique sandwiches. They offer a full bar with liquor\, beer and win\, as well as a fun\, family-friendly environment with live music on the weekends and daily specials.
LOCATION:1540 River Rd. Boerne\, TX 78006
UID:e.187.16782
SEQUENCE:3
DTSTAMP:20260419T191823Z
URL:https://business.boerne.org/events/details/ribbon-cutting-for-inferno-s-wood-fired-oven-spirits-16782
END:VEVENT

END:VCALENDAR
