BEGIN:VCALENDAR
VERSION:2.0
PRODID:-//ChamberMaster//Event Calendar 2.0//EN
METHOD:PUBLISH
X-PUBLISHED-TTL:P3D
REFRESH-INTERVAL:P3D
CALSCALE:GREGORIAN
BEGIN:VEVENT
DTSTART:20241024T183000Z
DTEND:20241024T190000Z
X-MICROSOFT-CDO-ALLDAYEVENT:FALSE
SUMMARY:Ribbon Cutting for HOTWORX Boerne
DESCRIPTION:Join us for a ribbon cutting celebrating HOTWORX Boerne's 2 Year Anniversary!\n\n\n\nHOTWORX is a virtually instructed exercise program created for users to experience the many benefits of infrared heat absorption\, while completing a 30-minute Isometric or 15-minute High Intensity Interval Training (HITT) session. As the infrared heat penetrates your body causing you to sweat\, the isometric postures further accelerate detoxification by physically removing the toxins from your organs through muscle contraction. Their patented sauna combines heat\, infrared\, and exercise - what they like to call "3D Training" - and makes HOTWORX a workout unlike any other! They offer different membership levels to fit your needs\, and are open 24 hours to fit your schedule!\n\n\n\nWEBSITE: HOTWORX | www.hotworx.net\n\nPHONE: (830) 377-8601\n\nLOCATION: 27650 IH-10 W\, Suite 108\, Boerne\, TX. 78006\n\n\n\nThey are located in the Napa Oaks Shopping Center.
X-ALT-DESC;FMTTYPE=text/html:<span style="color:#000000\;"><span style="font-size:14px\;"><span style="font-family:arial\;">Join us for a ribbon cutting celebrating HOTWORX Boerne&#39\;s 2 Year Anniversary!<br />\n<br />\nHOTWORX is a virtually instructed exercise program created for users to experience the many benefits of infrared heat absorption\, while completing a 30-minute Isometric or 15-minute High Intensity Interval Training (HITT) session. As the infrared heat penetrates your body causing you to sweat\, the isometric postures further accelerate detoxification by physically removing the toxins from your organs through muscle contraction. Their patented sauna combines heat\, infrared\, and exercise - what they like to call &quot\;3D Training&quot\; - and makes HOTWORX a workout unlike any other! They offer different membership levels to fit your needs\, and are open 24 hours to fit your schedule!<br />\n<br />\nWEBSITE:&nbsp\;</span></span></span><a href="https://www.hotworx.net/studio/boerne-napaoaks">HOTWORX | www.hotworx.net</a><br />\n<span style="color:#000000\;"><span style="font-size:14px\;"><span style="font-family:arial\;">PHONE: (830) 377-8601<br />\nLOCATION: 27650 IH-10 W\, Suite 108\, Boerne\, TX. 78006<br />\n<br />\nThey are located in the Napa Oaks Shopping Center.</span></span></span>
LOCATION:HOTWORX 27650 IH-10 W\, Suite 108 Boerne\, TX 78015
UID:e.187.28673
SEQUENCE:3
DTSTAMP:20260419T162834Z
URL:https://business.boerne.org/events/details/ribbon-cutting-for-hotworx-boerne-28673
END:VEVENT

END:VCALENDAR
