BEGIN:VCALENDAR
VERSION:2.0
PRODID:-//ChamberMaster//Event Calendar 2.0//EN
METHOD:PUBLISH
X-PUBLISHED-TTL:P3D
REFRESH-INTERVAL:P3D
CALSCALE:GREGORIAN
BEGIN:VEVENT
DTSTART:20241015T203000Z
DTEND:20241015T210000Z
X-MICROSOFT-CDO-ALLDAYEVENT:FALSE
SUMMARY:Ribbon Cutting for Hill Country Youth Orchestras
DESCRIPTION:Join us for a ribbon cutting as we celebrate Hill Country Youth Orchestras!\n\n\n\nThe Hill Country Youth Orchestra mission is to "bring the joy of the orchestra experience to the youth of the Texas Hill Country" with the vision to nurture\, encourage and assist young musicians by sharing the love and joy of music through quality instruction\, concert performances\, and community services. With 3 campuses (Boerne\, Kerrville and Fredericksburg)\, they offer the orchestra experience to many youth in the area.\n\n\n\nWEBSITE: Home (hcyo.org)\n\nPHONE: (830) 285-9781\n\n\n\n*This ribbon cutting will take place in the courtyard of St. Helena's Episcopal Church.
X-ALT-DESC;FMTTYPE=text/html:<p><span style="font-size:14px\;"><span style="font-family:arial\;"><span style="color:black\;">Join us for a ribbon cutting as we celebrate Hill Country Youth Orchestras!<br />\n<br />\nThe Hill Country Youth Orchestra mission is to &quot\;bring the joy of the orchestra experience to the youth of the Texas Hill Country&quot\; with the vision to nurture\, encourage and assist young musicians by sharing the love and joy of music through quality instruction\, concert performances\, and community services. With 3 campuses (Boerne\, Kerrville and Fredericksburg)\, they offer the orchestra experience to many youth in the area.</span></span></span><br />\n<br />\n<font face="arial"><span style="font-size: 14px\;"><span style="color:#000000\;">WEBSITE:</span>&nbsp\;</span></font><a href="https://www.hcyo.org/">Home (hcyo.org)</a><br />\n<span style="color:#000000\;"><font face="arial"><span style="font-size: 14px\;">PHONE:&nbsp\;</span></font>(830) 285-9781<br />\n<br />\n*This ribbon cutting will take place in the courtyard of St. Helena&#39\;s Episcopal Church.</span></p>\n
LOCATION:St. Helena's Episcopal Church & School Courtyard 410 N Main St Boerne\, TX 78006
UID:e.187.28688
SEQUENCE:3
DTSTAMP:20260419T163017Z
URL:https://business.boerne.org/events/details/ribbon-cutting-for-hill-country-youth-orchestras-28688
END:VEVENT

END:VCALENDAR
