BEGIN:VCALENDAR
VERSION:2.0
PRODID:-//ChamberMaster//Event Calendar 2.0//EN
METHOD:PUBLISH
X-PUBLISHED-TTL:P3D
REFRESH-INTERVAL:P3D
CALSCALE:GREGORIAN
BEGIN:VEVENT
DTSTART:20190326T163000Z
DTEND:20190326T170000Z
X-MICROSOFT-CDO-ALLDAYEVENT:FALSE
SUMMARY:Ribbon Cutting for Hill Country Visitor
DESCRIPTION:Join us for a ribbon cutting ceremony celebrating Hill Country Visitor!
X-ALT-DESC;FMTTYPE=text/html:Join us for a ribbon cutting ceremony celebrating Hill Country Visitor!
LOCATION:Boerne Chamber of Commerce Boardroom 121 S. Main St. Boerne\, TX 78006
UID:e.187.16322
SEQUENCE:3
DTSTAMP:20260419T175242Z
URL:https://business.boerne.org/events/details/ribbon-cutting-for-hill-country-visitor-16322
END:VEVENT

END:VCALENDAR
