BEGIN:VCALENDAR
VERSION:2.0
PRODID:-//ChamberMaster//Event Calendar 2.0//EN
METHOD:PUBLISH
X-PUBLISHED-TTL:P3D
REFRESH-INTERVAL:P3D
CALSCALE:GREGORIAN
BEGIN:VEVENT
DTSTART:20190129T193000Z
DTEND:20190129T200000Z
X-MICROSOFT-CDO-ALLDAYEVENT:FALSE
SUMMARY:Ribbon Cutting for Hill Country Pregnancy Care Center
DESCRIPTION:Join us for a ribbon cutting ceremony celebrating Hill Country Pregnancy Care Center's Nanny's Boutique!
X-ALT-DESC;FMTTYPE=text/html:Join us for a ribbon cutting ceremony celebrating Hill Country Pregnancy Care Center&#39\;s Nanny&#39\;s Boutique!
LOCATION:439 Fabra Street Boerne\, TX 78006 The ribbon cutting ceremony will be held at Building B.
UID:e.187.15327
SEQUENCE:3
DTSTAMP:20260419T210900Z
URL:https://business.boerne.org/events/details/ribbon-cutting-for-hill-country-pregnancy-care-center-15327
END:VEVENT

END:VCALENDAR
