BEGIN:VCALENDAR
VERSION:2.0
PRODID:-//ChamberMaster//Event Calendar 2.0//EN
METHOD:PUBLISH
X-PUBLISHED-TTL:P3D
REFRESH-INTERVAL:P3D
CALSCALE:GREGORIAN
BEGIN:VEVENT
DTSTART:20191022T163000Z
DTEND:20191022T170000Z
X-MICROSOFT-CDO-ALLDAYEVENT:FALSE
SUMMARY:Ribbon Cutting for Hill Country Memorial's New Clinic Location
DESCRIPTION:Join us for a ribbon cutting celebrating Hill Country Memorial's new location in Boerne! Hill Country Memorial (HCM) will also be hosting an open house from 11:00 am - 1:00 pm\, so come out and see their beautiful new space.\n\n\n\nHCM Medical Clinic in Boerne provides primary care for patients of all ages including preventive care\, annual wellness exams\, women's and men's health\, pediatrics\, adolescent care and geriatrics.
X-ALT-DESC;FMTTYPE=text/html:Join us for a ribbon cutting celebrating Hill Country Memorial&#39\;s new location in Boerne! Hill Country Memorial (HCM) will also be hosting an open house from 11:00 am - 1:00 pm\, so come out and see their beautiful new space.<br />\n<br />\nHCM Medical Clinic in Boerne provides primary care for patients of all ages including preventive care\, annual wellness exams\, women&rsquo\;s and men&rsquo\;s health\, pediatrics\, adolescent care and geriatrics.
LOCATION:1430 S. Main St.\, Ste. 111 Boerne\, TX 78006
UID:e.187.16753
SEQUENCE:3
DTSTAMP:20260419T192112Z
URL:https://business.boerne.org/events/details/ribbon-cutting-for-hill-country-memorial-s-new-clinic-location-16753
END:VEVENT

END:VCALENDAR
