BEGIN:VCALENDAR
VERSION:2.0
PRODID:-//ChamberMaster//Event Calendar 2.0//EN
METHOD:PUBLISH
X-PUBLISHED-TTL:P3D
REFRESH-INTERVAL:P3D
CALSCALE:GREGORIAN
BEGIN:VEVENT
DTSTART:20180407T154500Z
DTEND:20180407T160000Z
X-MICROSOFT-CDO-ALLDAYEVENT:FALSE
SUMMARY:Ribbon Cutting for Hill Country Council for the Arts Boerne Craft Bier Fest
DESCRIPTION:Come join us for a Ribbon Cutting  for Hill Country Council for the Arts - hosting Boerne Craft Bier Fest.
X-ALT-DESC;FMTTYPE=text/html:Come join us for a Ribbon Cutting&nbsp\; for Hill Country Council for the Arts - hosting Boerne Craft Bier Fest.&nbsp\;&nbsp\;
LOCATION:Downtown Boerne Main Plaza Main Street Boerne Boerne Texas 78006
UID:e.187.13662
SEQUENCE:3
DTSTAMP:20260420T111924Z
URL:https://business.boerne.org/events/details/ribbon-cutting-for-hill-country-council-for-the-arts-boerne-craft-bier-fest-13662
END:VEVENT

END:VCALENDAR
