BEGIN:VCALENDAR
VERSION:2.0
PRODID:-//ChamberMaster//Event Calendar 2.0//EN
METHOD:PUBLISH
X-PUBLISHED-TTL:P3D
REFRESH-INTERVAL:P3D
CALSCALE:GREGORIAN
BEGIN:VEVENT
DTSTART:20251209T193000Z
DTEND:20251209T200000Z
X-MICROSOFT-CDO-ALLDAYEVENT:FALSE
SUMMARY:Ribbon Cutting for Hill Country Automotive
DESCRIPTION:Join us for a ribbon cutting celebrating Hill Country Automotive!\n\n\n\nHill Country Automotive has been a family-owned and locally operated business since 2013! They take pride in the quality of their work and the service they provide. They use dependable parts\, efficient techniques\, in-depth diagnostic systems\, and decades of expertise to provide unparalleled services at unbeatable prices. No matter the type of vehicle you drive\, their team has the knowledge to provide you with the professional services to ensure your vehicle runs smoothly and safely.\n\n\n\nHill Country Automotive will be serving brisket tacos from 12:00 - 1:00pm!\n\n\n\nWEBSITE: https://hillcountryautomotivetx.com/\n\nPHONE: (830) 331-2489\n\nLOCATION: 114 Parkway Dr.\, Boerne\, TX. 78006
X-ALT-DESC;FMTTYPE=text/html:<span style="color:#000000\;">Join us for a ribbon cutting celebrating Hill Country Automotive!<br />\n<br />\nHill Country Automotive has been a family-owned and locally operated business since 2013! They take pride in the quality of their work and the service they provide. They use dependable parts\, efficient techniques\, in-depth diagnostic systems\, and decades of expertise to provide unparalleled services at unbeatable prices. No matter the type of vehicle you drive\, their team has the knowledge to provide you with the professional services to ensure your vehicle runs smoothly and safely.<br />\n<br />\nHill Country Automotive will be serving brisket tacos from 12:00 - 1:00pm!</span><br />\n<br />\n<span style="font-size:14px\;"><span style="font-family:arial\;"><span style="color:#000000\;">WEBSITE:&nbsp\;</span></span></span><a href="https://hillcountryautomotivetx.com/">https://hillcountryautomotivetx.com/</a><br />\n<span style="font-size:14px\;"><span style="font-family:arial\;"><span style="color:#000000\;">PHONE: (830) 331-2489<br />\nLOCATION: 114 Parkway Dr.\, Boerne\, TX. 78006</span></span></span><br />\n<br />\n<br />\n<br />\n&nbsp\;
LOCATION:Hill Country Automotive 114 Parkway Dr. Boerne\, TX 78006
UID:e.187.31985
SEQUENCE:3
DTSTAMP:20260420T020700Z
URL:https://business.boerne.org/events/details/ribbon-cutting-for-hill-country-automotive-31985
END:VEVENT

END:VCALENDAR
