BEGIN:VCALENDAR
VERSION:2.0
PRODID:-//ChamberMaster//Event Calendar 2.0//EN
METHOD:PUBLISH
X-PUBLISHED-TTL:P3D
REFRESH-INTERVAL:P3D
CALSCALE:GREGORIAN
BEGIN:VEVENT
DTSTART:20241015T183000Z
DTEND:20241015T190000Z
X-MICROSOFT-CDO-ALLDAYEVENT:FALSE
SUMMARY:Ribbon Cutting for Hill Country Animal League Clinic
DESCRIPTION:Join us for a ribbon cutting celebrating Hill Country Animal League Clinic!\n\n\n\nThrough community donations and funding from the Hill Country Animal League Thrift Store\, the Hill Country Animal League Clinic provides low-cost surgeries and pet wellness services in the Greater Texas Hill Country Area. Their primary mission is to help prevent unwanted\, neglected and abused dogs and cats by providing affordable spay/neuter services\, preventative care\, and guidance on responsible pet ownership.\n\n\n\nHill Country Animal League would like to invite the community to their 4th Annual Barktoberfest on Saturday\, October 19th at Boerne Main Plaza!\n\n\n\nWEBSITE: Spay & Neuter Clinic - Hill Country Animal League (hcaltx.org)\n\nPHONE: (830) 249-2341\n\nLOCATION: 924 N Main\, Boerne\, TX 78006
X-ALT-DESC;FMTTYPE=text/html:<span style="color:#000000\;"><font face="arial"><span style="font-size: 14px\;">Join us for a ribbon cutting celebrating Hill Country Animal League Clinic!</span></font><br />\n<br />\nThrough community donations and funding from the Hill Country Animal League Thrift Store\, the Hill Country Animal League Clinic provides low-cost surgeries and pet wellness services in the Greater Texas Hill Country Area. Their primary mission is to help prevent unwanted\, neglected and abused dogs and cats by providing affordable spay/neuter services\, preventative care\, and guidance on responsible pet ownership.<br />\n<br />\nHill Country Animal League would like to invite the community to their 4th Annual Barktoberfest on Saturday\, October 19th at Boerne Main Plaza!<br />\n<br />\n<span style="font-size:14px\;"><span style="font-family:arial\;">WEBSITE:&nbsp\;</span></span></span><a href="https://hcaltx.org/">Spay &amp\; Neuter Clinic - Hill Country Animal League (hcaltx.org)</a><br />\n<span style="color:#000000\;"><span style="font-size:14px\;"><span style="font-family:arial\;">PHONE: (830) 249-2341<br />\nLOCATION: 924 N Main\, Boerne\, TX 78006</span></span></span><br />\n<br />\n&nbsp\;
LOCATION:Hill Country Animal League Clinic 924 N Main St Boerne\, TX 78006
UID:e.187.28659
SEQUENCE:3
DTSTAMP:20260419T163248Z
URL:https://business.boerne.org/events/details/ribbon-cutting-for-hill-country-animal-league-clinic-28659
END:VEVENT

END:VCALENDAR
