BEGIN:VCALENDAR
VERSION:2.0
PRODID:-//ChamberMaster//Event Calendar 2.0//EN
METHOD:PUBLISH
X-PUBLISHED-TTL:P3D
REFRESH-INTERVAL:P3D
CALSCALE:GREGORIAN
BEGIN:VEVENT
DTSTART:20250415T183000Z
DTEND:20250415T190000Z
X-MICROSOFT-CDO-ALLDAYEVENT:FALSE
SUMMARY:Ribbon Cutting for Hart Employment Services
DESCRIPTION:Join us for a ribbon cutting celebrating Hart Employment Services!\n\n\n\nFounded in 1987\, Hart Employment Services has had the privilege of providing quality service and qualified talent search assistance in a variety of industries for over 30 years. They specialize in personalized\, quality staffing assistance for direct placement\, contract\, temporary to hire\, pre-employment testing and payroll services. \n\n\n\nWEBSITE: HART Employment Services - Exclusive Employment Services\n\nPHONE: (830) 816-5400\n\nLOCATION: 216 E Blanco\, #203\, Boerne\, TX 78006
X-ALT-DESC;FMTTYPE=text/html:<span style="color:#000000\;"><font face="arial"><span style="font-size: 14px\;">Join us for a ribbon cutting celebrating Hart Employment Services!<br />\n<br />\nFounded in 1987\, Hart Employment Services has had the privilege of providing quality service and qualified talent search assistance in a variety of industries for over 30 years. They specialize in personalized\, quality staffing assistance for direct placement\, contract\, temporary to hire\, pre-employment testing and payroll services.&nbsp\;</span></font><br />\n<br />\n<span style="font-size:14px\;"><span style="font-family:arial\;">WEBSITE:&nbsp\;</span></span></span><a href="https://hartjobs.com/">HART Employment Services - Exclusive Employment Services</a><br />\n<span style="color:#000000\;"><span style="font-size:14px\;"><span style="font-family:arial\;">PHONE: (830) 816-5400<br />\nLOCATION:&nbsp\;</span></span><span style="font-family: arial\; font-size: 14px\;">216 E Blanco\, #203\,&nbsp\;</span><span style="font-size:14px\;"><span style="font-family:arial\;">Boerne\, TX 78006</span></span></span><br />\n&nbsp\;
LOCATION:Hart Employment Services 216 E Blanco\, #203 Boerne\, TX 78006
UID:e.187.29237
SEQUENCE:3
DTSTAMP:20260419T143345Z
URL:https://business.boerne.org/events/details/ribbon-cutting-for-hart-employment-services-29237
END:VEVENT

END:VCALENDAR
