BEGIN:VCALENDAR
VERSION:2.0
PRODID:-//ChamberMaster//Event Calendar 2.0//EN
METHOD:PUBLISH
X-PUBLISHED-TTL:P3D
REFRESH-INTERVAL:P3D
CALSCALE:GREGORIAN
BEGIN:VEVENT
DTSTART:20240903T163000Z
DTEND:20240903T170000Z
X-MICROSOFT-CDO-ALLDAYEVENT:FALSE
SUMMARY:Ribbon Cutting for Globe Life Family Heritage
DESCRIPTION:Join us for a ribbon cutting celebrating Globe Life Family Heritage!\n\n\n\nGlobe life Family Heritage has been helping  protect hardworking Americans with life and supplemental health insurance coverage since 1989. When they're not protecting their communities\, they're giving back to them through hands-on volunteer and monetary contributions. Their passion for their life and supplemental health insurance products is contagious\, and their work is meaningful. Their products are available through their local\, state-licensed insurance professionals in the comfort of your own home. \n\n \n\nWEBSITE: https://home.globelifeinsurance.com/familyheritage/home\n\nPHONE: (830) 743-9007\n\n\n\n*This ribbon cutting will take place at The Greater Boerne Chamber of Commerce.
X-ALT-DESC;FMTTYPE=text/html:<span style="color:#000000\;"><span style="font-family:arial\;">Join us for a ribbon cutting celebrating Globe Life Family Heritage!<br />\n<br />\nGlobe life Family Heritage has been helping&nbsp\; protect hardworking Americans with life and supplemental health insurance coverage since 1989. When they&#39\;re not protecting their communities\, they&#39\;re giving back to them through hands-on volunteer and monetary contributions. Their passion for their life and supplemental health insurance products is contagious\, and their work is meaningful. Their products are available through their local\, state-licensed insurance professionals in the comfort of your own home.&nbsp\;<br />\n&nbsp\;<br />\nWEBSITE:&nbsp\;</span></span><a href="https://home.globelifeinsurance.com/familyheritage/home"><span style="color:#000000\;">https://home.globelifeinsurance.com/familyheritage/home</span></a><br />\n<span style="color:#000000\;"><span style="font-family:arial\;">PHONE: (830) 743-9007<br />\n<br />\n*This ribbon cutting will take place at The Greater Boerne Chamber of Commerce.</span></span><br />\n&nbsp\;
LOCATION:The Greater Boerne Chamber of Commerce 121 S Main St Boerne\, TX. 78006
UID:e.187.28579
SEQUENCE:3
DTSTAMP:20260419T193540Z
URL:https://business.boerne.org/events/details/ribbon-cutting-for-globe-life-family-heritage-28579
END:VEVENT

END:VCALENDAR
