BEGIN:VCALENDAR
VERSION:2.0
PRODID:-//ChamberMaster//Event Calendar 2.0//EN
METHOD:PUBLISH
X-PUBLISHED-TTL:P3D
REFRESH-INTERVAL:P3D
CALSCALE:GREGORIAN
BEGIN:VEVENT
DTSTART:20251104T223000Z
DTEND:20251104T230000Z
X-MICROSOFT-CDO-ALLDAYEVENT:FALSE
SUMMARY:Ribbon Cutting for Ginny Thompson - State Farm Insurance
DESCRIPTION:Join us for a ribbon cutting celebrating Ginny Thompson - State Farm Insurance's 40th Anniversary!\n\n\n\nJoin us for an evening of celebration as Ginny Thompson State Farm marks a major milestone   its 40th anniversary-with a special ribbon-cutting ceremony.  Ginny and her team extend a warm invitation to join them for an evening of food\, drinks\, and festivities\, honoring 40 years of tireless dedication to serving the Boerne Community.  The Thompson Agency remains steadfast in its commitment to providing a broad spectrum of insurance and financial solutions.  Ginny's areas of expertise include asset protection\, income protection\, wealth management\, and distribution.  They look forward to celebrating this remarkable 40-year milestone with you!\n\n\n\nWEBSITE: Home\, Auto Insurance & More in TX | Ginny Thompson   State Farm \n\nPHONE: (830) 249-9505\n\nLOCATION: 217 E Bandera Rd.\, Suite 1\, Boerne\, TX. 78006
X-ALT-DESC;FMTTYPE=text/html:<span style="color:#000000\;"><span style="font-family:arial\;">Join us for a ribbon cutting celebrating Ginny Thompson - State Farm Insurance&#39\;s 40th Anniversary!</span></span><br />\n<br />\n<span style="color:black\;">Join us for an evening of celebration as Ginny Thompson State Farm marks a major milestone &ndash\; its 40<sup>th</sup> anniversary-with a special ribbon-cutting ceremony.&nbsp\; Ginny and her team extend a warm invitation to join them for an evening of food\, drinks\, and festivities\, honoring 40 years of tireless dedication to serving the Boerne Community.&nbsp\; The Thompson Agency remains steadfast in its commitment to providing a broad spectrum of insurance and financial solutions.&nbsp\; Ginny&rsquo\;s areas of expertise include asset protection\, income protection\, wealth management\, and distribution. &nbsp\;They look forward to celebrating this remarkable 40-year milestone with you!</span><br />\n<br />\n<span style="color:#000000\;">WEBSITE:&nbsp\;</span><a href="https://www.ginnythompson.com/">Home\, Auto Insurance &amp\; More in TX | Ginny Thompson &ndash\; State Farm&reg\;</a><br />\n<span style="color:#000000\;">PHONE: (830) 249-9505<br />\nLOCATION: 217 E Bandera Rd.\, Suite 1\, Boerne\, TX. 78006</span>
LOCATION:State Farm Insurance 217 E Bandera Rd.\, Suite 1 Boerne\, TX. 78006
UID:e.187.31786
SEQUENCE:3
DTSTAMP:20260420T002540Z
URL:https://business.boerne.org/events/details/ribbon-cutting-for-ginny-thompson-state-farm-insurance-31786
END:VEVENT

END:VCALENDAR
