BEGIN:VCALENDAR
VERSION:2.0
PRODID:-//ChamberMaster//Event Calendar 2.0//EN
METHOD:PUBLISH
X-PUBLISHED-TTL:P3D
REFRESH-INTERVAL:P3D
CALSCALE:GREGORIAN
BEGIN:VEVENT
DTSTART:20181101T183000Z
DTEND:20181101T190000Z
X-MICROSOFT-CDO-ALLDAYEVENT:FALSE
SUMMARY:Ribbon Cutting for Geneva School of Boerne
DESCRIPTION:Join us for a Ribbon Cutting Ceremony to celebrate Geneva School of Boerne's new Grammar School!
X-ALT-DESC;FMTTYPE=text/html:Join us for a Ribbon Cutting Ceremony to celebrate Geneva School of Boerne&#39\;s new Grammar School!
LOCATION:113 Cascade Caverns Rd. Boerne\, TX 78015
UID:e.187.15120
SEQUENCE:3
DTSTAMP:20260420T013904Z
URL:https://business.boerne.org/events/details/ribbon-cutting-for-geneva-school-of-boerne-15120
END:VEVENT

END:VCALENDAR
