BEGIN:VCALENDAR
VERSION:2.0
PRODID:-//ChamberMaster//Event Calendar 2.0//EN
METHOD:PUBLISH
X-PUBLISHED-TTL:P3D
REFRESH-INTERVAL:P3D
CALSCALE:GREGORIAN
BEGIN:VEVENT
DTSTART:20170302T173000Z
DTEND:20170302T180000Z
X-MICROSOFT-CDO-ALLDAYEVENT:FALSE
SUMMARY:Ribbon Cutting for Genesis Town and Country Manor Nursing & Rehabilitation
DESCRIPTION:Come join us for a Ribbon Cutting Ceremony for Genesis Town and Country Manor Nursing & Rehabilitation. (link)
X-ALT-DESC;FMTTYPE=text/html:Come join us for a Ribbon Cutting Ceremony for Genesis Town and Country Manor Nursing &amp\; Rehabilitation. (<a href="http://www.genesishcc.com/townandcountry">link</a>)
LOCATION:625 N. Main St. (map) Boerne\, TX 78006 (830) 249-3085 I-10 West or East and Exit ''John's Road''. We are across from the fire department on the West end of town on Main Street.
UID:e.187.11602
SEQUENCE:3
DTSTAMP:20260423T072833Z
URL:https://business.boerne.org/events/details/ribbon-cutting-for-genesis-town-and-country-manor-nursing-rehabilitation-11602
END:VEVENT

END:VCALENDAR
