BEGIN:VCALENDAR
VERSION:2.0
PRODID:-//ChamberMaster//Event Calendar 2.0//EN
METHOD:PUBLISH
X-PUBLISHED-TTL:P3D
REFRESH-INTERVAL:P3D
CALSCALE:GREGORIAN
BEGIN:VEVENT
DTSTART:20250403T163000Z
DTEND:20250403T170000Z
X-MICROSOFT-CDO-ALLDAYEVENT:FALSE
SUMMARY:Ribbon Cutting for Garner Custom Homes
DESCRIPTION:Join us for a ribbon cutting celebrating Garner Custom Homes!\n\n\n\nFor over two decades\, Garner Homes has been dedicated to crafting exceptional custom homes that balance vision and precision. Every home we build reflects our clients' unique lifestyles while being backed by a proven process that ensures confidence every step of the way.\n\n \n\nThis new model home is a testament to our commitment to thoughtful design\, expert craftsmanship\, and a seamless building experience. We invite you to tour the home\, meet our team\, and experience firsthand how we bring creative ideas to life with unwavering precision and expertise.\n\n \n\nExperience the difference where inspired design meets a process you can trust. We look forward to celebrating with you!\n\n\n\nWEBSITE: Home - Garner Homes - Award Winning Custom Builder\n\nPHONE: (210) 493-1686\n\nLOCATION: 6 Monterey Trail\, Boerne\, TX 78006
X-ALT-DESC;FMTTYPE=text/html:<span style="color:#000000\;"><span style="font-size:14px\;">Join us for a ribbon cutting celebrating Garner Custom Homes!<br />\n<br />\nFor over two decades\, Garner Homes has been dedicated to crafting exceptional custom homes that balance vision and precision. Every home we build reflects our clients&rsquo\; unique lifestyles while being backed by a proven process that ensures confidence every step of the way.<br />\n&nbsp\;<br />\nThis new model home is a testament to our commitment to thoughtful design\, expert craftsmanship\, and a seamless building experience. We invite you to tour the home\, meet our team\, and experience firsthand how we bring creative ideas to life with unwavering precision and expertise.<br />\n&nbsp\;<br />\nExperience the difference&mdash\;where inspired design meets a process you can trust. We look forward to celebrating with you!<br />\n<br />\nWEBSITE:&nbsp\;</span></span><a href="https://garnerhomes.com/">Home - Garner Homes - Award Winning Custom Builder</a><br />\n<span style="color:#000000\;"><span style="font-size:14px\;">PHONE: (210) 493-1686<br />\nLOCATION: 6 Monterey Trail\, Boerne\, TX 78006</span></span><br />\n<br />\n<br />\n&nbsp\;
LOCATION:Garner Custom Homes Model Home 6 Monterey Trail Boerne\, TX 78006
UID:e.187.29221
SEQUENCE:3
DTSTAMP:20260419T143239Z
URL:https://business.boerne.org/events/details/ribbon-cutting-for-garner-custom-homes-29221
END:VEVENT

END:VCALENDAR
