BEGIN:VCALENDAR
VERSION:2.0
PRODID:-//ChamberMaster//Event Calendar 2.0//EN
METHOD:PUBLISH
X-PUBLISHED-TTL:P3D
REFRESH-INTERVAL:P3D
CALSCALE:GREGORIAN
BEGIN:VEVENT
DTSTART:20241017T183000Z
DTEND:20241017T190000Z
X-MICROSOFT-CDO-ALLDAYEVENT:FALSE
SUMMARY:Ribbon Cutting for Franchise Matchmakers
DESCRIPTION:Join us for a ribbon cutting celebrating Franchise Matchmakers!\n\n\n\nFranchise Matchmakers is a unique team of franchise professionals helping match those interested in exploring franchise ownership with options that the best fit based on their skills\, goals\, interests\, and financial capabilities. With over 60 years of combined experience in the franchise industry\, their team of franchise experts is uniquely qualified to provide education about franchising\, as well as help their clients determine if franchise ownership is the right path for them. The icing on the cake? Their services are free to you\, the client! \n\n \n\nWEBSITE: Home - Franchise Matchmakers\n\nPHONE: (303) 887-8887\n\n\n\n*This ribbon cutting will take place at The Greater Boerne Chamber of Commerce.
X-ALT-DESC;FMTTYPE=text/html:<span style="color:#000000\;"><span style="font-family:arial\;">Join us for a ribbon cutting celebrating Franchise Matchmakers!<br />\n<br />\nFranchise Matchmakers is a unique team of franchise professionals helping match those interested in exploring franchise ownership with options that the best fit based on their skills\, goals\, interests\, and financial capabilities. With over 60 years of combined experience in the franchise industry\, their team of franchise experts is uniquely qualified to provide education about franchising\, as well as help their clients determine if franchise ownership is the right path for them. The icing on the cake? Their services are free to you\, the client!&nbsp\;<br />\n&nbsp\;<br />\nWEBSITE:&nbsp\;</span></span><a href="https://franchisematchmakers.com/">Home - Franchise Matchmakers</a><br />\n<span style="color:#000000\;"><span style="font-family:arial\;">PHONE: (303) 887-8887<br />\n<br />\n*This ribbon cutting will take place at The Greater Boerne Chamber of Commerce.</span></span><br />\n&nbsp\;
LOCATION:The Greater Boerne Chamber of Commerce 121 S Main St Boerne\, TX. 78006
UID:e.187.28689
SEQUENCE:3
DTSTAMP:20260419T162716Z
URL:https://business.boerne.org/events/details/ribbon-cutting-for-franchise-matchmakers-28689
END:VEVENT

END:VCALENDAR
