BEGIN:VCALENDAR
VERSION:2.0
PRODID:-//ChamberMaster//Event Calendar 2.0//EN
METHOD:PUBLISH
X-PUBLISHED-TTL:P3D
REFRESH-INTERVAL:P3D
CALSCALE:GREGORIAN
BEGIN:VEVENT
DTSTART:20251118T173000Z
DTEND:20251118T180000Z
X-MICROSOFT-CDO-ALLDAYEVENT:FALSE
SUMMARY:Ribbon Cutting for Fair Oaks Ranch Golf & Country Club
DESCRIPTION:Join us for a ribbon cutting celebrating Fair Oaks Ranch Golf & Country Club!\n\n\n\nJust north of San Antonio\, tucked into the beautiful Texas Hill Country\, Fair Oaks Ranch Golf & Country Club is where your perfect getaway meets a multi-million dollar transformation. We're blending the charm of tradition with exciting new upgrades designed for the way you want to live\, play\, and relax. Whether you're out on our Gary Player-designed golf courses\, lounging by the refreshed pool\, or enjoying the newly enhanced racquet sports facilities\, there's something for everyone. Life here isn't just about luxury it's about family\, fun\, and creating memories that last.\n\n\n\nWe will be celebrating the official completion of the Club's major renovation project! \n\n\n\nWEBSITE: Fair Oaks Ranch Golf & Country Club | Fair Oaks\, TX | Invited\n\nPHONE: (210) 582-6700\n\nLOCATION: 7900 Fair Oaks Pkwy.\, Fair Oaks Ranch\, TX. 78015
X-ALT-DESC;FMTTYPE=text/html:<span style="color:#000000\;"><font face="arial"><span style="font-size: 14px\;">Join us for a ribbon cutting celebrating Fair Oaks Ranch Golf &amp\; Country Club!</span></font><br />\n<br />\n<span style="font-size:14px\;"><span style="font-family:arial\;"><span style="text-align: center\;">Just north of San Antonio\, tucked into the beautiful Texas Hill Country\, Fair Oaks Ranch Golf &amp\; Country Club is where your perfect getaway meets a multi-million dollar transformation. We&#39\;re blending the charm of tradition with exciting new upgrades designed for the way you want to live\, play\, and relax. Whether you&#39\;re out on our Gary Player-designed golf courses\, lounging by the refreshed pool\, or enjoying the newly enhanced racquet sports facilities\, there&#39\;s something for everyone. Life here isn&#39\;t just about luxury&mdash\;it&#39\;s about family\, fun\, and creating memories that last.<br />\n<br />\nWe will be celebrating the official completion of the Club&#39\;s major renovation project!&nbsp\;</span></span></span><br />\n<br />\n<span style="font-size:14px\;"><span style="font-family:arial\;">WEBSITE:&nbsp\;</span></span></span><a href="https://www.invitedclubs.com/clubs/fair-oaks-ranch-golf-country-club">Fair Oaks Ranch Golf &amp\; Country Club | Fair Oaks\, TX | Invited</a><br />\n<span style="color:#000000\;"><span style="font-size:14px\;"><span style="font-family:arial\;">PHONE: (210) 582-6700<br />\nLOCATION: 7900 Fair Oaks Pkwy.\, Fair Oaks Ranch\, TX. 78015</span></span></span><br />\n&nbsp\;
LOCATION:Fair Oaks Ranch Golf & Country Club 7900 Fair Oaks Pkwy. Fair Oaks Ranch\, TX. 78015
UID:e.187.31966
SEQUENCE:3
DTSTAMP:20260420T002728Z
URL:https://business.boerne.org/events/details/ribbon-cutting-for-fair-oaks-ranch-golf-country-club-31966
END:VEVENT

END:VCALENDAR
