BEGIN:VCALENDAR
VERSION:2.0
PRODID:-//ChamberMaster//Event Calendar 2.0//EN
METHOD:PUBLISH
X-PUBLISHED-TTL:P3D
REFRESH-INTERVAL:P3D
CALSCALE:GREGORIAN
BEGIN:VEVENT
DTSTART:20240924T210000Z
DTEND:20240924T213000Z
X-MICROSOFT-CDO-ALLDAYEVENT:FALSE
SUMMARY:Ribbon Cutting for Fair Oaks Emergency Room
DESCRIPTION:Join us for a ribbon cutting celebrating Fair Oaks Emergency Room's Grand Opening!\n\n\n\nFair Oaks Emergency Room is bringing state-of-the-art patient care to the Boerne and Fair Oaks area! Patients will avoid long wait times you would typically find at hospital Emergency Rooms. From the receptionist to physicians\, you'll receive exceptional treatment for all of your medical emergency needs. They will be open 24/7\, 365 days a year\, and offer adult and pediatric care.\n\n\n\nThe ribbon cutting will take place at 4pm\, but please plan to stay afterwards as Fair Oaks Emergency Room is hosting a Grand Opening party until 6pm!\n\n\n\nWEBSITE: Fair Oaks ER (fairoaksemergency.com)\n\nPHONE: (210) 903-2424\n\nLOCATION: 27638 IH 10 W\, Boerne\, TX 78006\n\n\n\nThey are located in the Napa Oaks Plaza!
X-ALT-DESC;FMTTYPE=text/html:<span style="color:#000000\;"><span style="font-size:14px\;"><span style="font-family:arial\;">Join us for a ribbon cutting celebrating Fair Oaks Emergency Room&#39\;s Grand Opening!<br />\n<br />\nFair Oaks Emergency Room is bringing state-of-the-art patient care to the Boerne and Fair Oaks area! Patients will avoid long wait times you would typically find at hospital Emergency Rooms. From the receptionist to physicians\, you&#39\;ll receive exceptional treatment for all of your medical emergency needs. They will be open 24/7\, 365 days a year\, and offer adult and pediatric care.<br />\n<br />\nThe ribbon cutting will take place at 4pm\, but please plan to stay afterwards as Fair Oaks Emergency Room is hosting a Grand Opening party until 6pm!<br />\n<br />\nWEBSITE:&nbsp\;</span></span></span><a href="https://www.fairoaksemergency.com/">Fair Oaks ER (fairoaksemergency.com)</a><br />\n<span style="color:#000000\;"><span style="font-size:14px\;"><span style="font-family:arial\;">PHONE: (210) 903-2424<br />\nLOCATION: 27638 IH 10 W\, Boerne\, TX 78006<br />\n<br />\nThey are located in the Napa Oaks Plaza!</span></span></span>
LOCATION:Fair Oaks Emergency Room 27638 IH 10 W Boerne\, TX 78006
UID:e.187.28636
SEQUENCE:3
DTSTAMP:20260419T181152Z
URL:https://business.boerne.org/events/details/ribbon-cutting-for-fair-oaks-emergency-room-28636
END:VEVENT

END:VCALENDAR
