BEGIN:VCALENDAR
VERSION:2.0
PRODID:-//ChamberMaster//Event Calendar 2.0//EN
METHOD:PUBLISH
X-PUBLISHED-TTL:P3D
REFRESH-INTERVAL:P3D
CALSCALE:GREGORIAN
BEGIN:VEVENT
DTSTART:20191010T183000Z
DTEND:20191010T190000Z
X-MICROSOFT-CDO-ALLDAYEVENT:FALSE
SUMMARY:Ribbon Cutting for EP Commercial Real Estate\, LLC
DESCRIPTION:Join us for a ribbon cutting celebrating EP Commercial Real Estate\, LLC!\n\n\n\nElize Pruske\, CCIM with EP Commercial Real Estate\, LLC offers brokerage services specializing in general office\, medical office\, office service/warehouse and land. We hope to see you at one of her listed properties for a ribbon cutting!
X-ALT-DESC;FMTTYPE=text/html:Join us for a ribbon cutting celebrating EP Commercial Real Estate\, LLC!<br />\n<br />\nElize Pruske\, CCIM with EP Commercial Real Estate\, LLC offers&nbsp\;brokerage services specializing in general office\, medical office\, office service/warehouse and land. We hope to see you at one of her listed properties for a ribbon cutting!
LOCATION:101 Woods of Boerne\, Building B Boerne\, TX 78006
UID:e.187.16767
SEQUENCE:3
DTSTAMP:20260419T210657Z
URL:https://business.boerne.org/events/details/ribbon-cutting-for-ep-commercial-real-estate-llc-16767
END:VEVENT

END:VCALENDAR
