BEGIN:VCALENDAR
VERSION:2.0
PRODID:-//ChamberMaster//Event Calendar 2.0//EN
METHOD:PUBLISH
X-PUBLISHED-TTL:P3D
REFRESH-INTERVAL:P3D
CALSCALE:GREGORIAN
BEGIN:VEVENT
DTSTART:20251104T173000Z
DTEND:20251104T180000Z
X-MICROSOFT-CDO-ALLDAYEVENT:FALSE
SUMMARY:Ribbon Cutting for Enrich Health and Wellness
DESCRIPTION:Join us for a ribbon cutting celebrating Enrich Health and Wellness' 2 Year Anniversary!\n\n\n\nEnrich Health and Wellness is proud to offer innovative cosmetic services and beyond to adults of all ages in Boerne! Maria Cole\, APRN\, FNP-C\, brings years of experience as a board-certified family nurse practitioner to the team\, offering everything from cutting-edge cosmetic treatments to comprehensive weight loss programs. In addition\, they offer dermal fillers\, rejuvenating SkinPen microneedling\, and a variety of other advanced treatments.\n\n\n\nEnrich Health and Wellness will be celebrating their 2nd anniversary from 9am to 5pm and invite everyone to join! They are located on the second floor of the shopping center\, in suite 201.\n\n\n\nWEBSITE: Enrich Health And Wellness | Aesthetics located in Boerne\, TX (enrichhw.com)\n\nPHONE: (830) 240-2540\n\nLOCATION: 27650 W IH Frontage Rd\, Boerne\, TX. 78006
X-ALT-DESC;FMTTYPE=text/html:<span style="color:#000000\;"><font face="arial"><span style="font-size: 14px\;">Join us for a ribbon cutting celebrating Enrich Health and Wellness&#39\; 2 Year Anniversary!</span></font><br />\n<br />\nEnrich Health and Wellness is proud to offer innovative cosmetic services and beyond to adults of all ages in Boerne! Maria Cole\, APRN\, FNP-C\, brings years of experience as a board-certified family nurse practitioner to the team\, offering everything from cutting-edge cosmetic treatments to comprehensive weight loss programs. In addition\, they offer dermal fillers\, rejuvenating SkinPen microneedling\, and a variety of other advanced treatments.<br />\n<br />\nEnrich Health and Wellness will be celebrating their 2nd anniversary from 9am to 5pm and invite everyone to join! They are located on the second floor of the shopping center\, in suite 201.<br />\n<br />\n<span style="font-size:14px\;"><span style="font-family:arial\;">WEBSITE:&nbsp\;</span></span></span><a href="https://www.enrichhw.com/"><span style="color:#000000\;">Enrich Health And Wellness | Aesthetics located in Boerne\, TX (enrichhw.com)</span></a><br />\n<span style="color:#000000\;"><span style="font-size:14px\;"><span style="font-family:arial\;">PHONE: (830) 240-2540<br />\nLOCATION: </span></span>27650 W IH Frontage Rd<span style="font-size:14px\;"><span style="font-family:arial\;">\, Boerne\, TX. 78006</span></span></span><br />\n&nbsp\;
LOCATION:Enrich Health and Wellness 27650 W IH Frontage Rd Boerne\, TX. 78006
UID:e.187.31785
SEQUENCE:3
DTSTAMP:20260420T002714Z
URL:https://business.boerne.org/events/details/ribbon-cutting-for-enrich-health-and-wellness-31785
END:VEVENT

END:VCALENDAR
