BEGIN:VCALENDAR
VERSION:2.0
PRODID:-//ChamberMaster//Event Calendar 2.0//EN
METHOD:PUBLISH
X-PUBLISHED-TTL:P3D
REFRESH-INTERVAL:P3D
CALSCALE:GREGORIAN
BEGIN:VEVENT
DTSTART:20260319T183000Z
DTEND:20260319T190000Z
X-MICROSOFT-CDO-ALLDAYEVENT:FALSE
SUMMARY:Ribbon Cutting for ECHO Physical Therapy and Athletics
DESCRIPTION:Join us for a ribbon cutting celebrating ECHO Physical Therapy and Athletics' new Physical Therapist!\n\n\n\nThe mission of ECHO Physical Therapy and Athletics is to provide individuals access to pro-athlete level physical therapy and performance training to optimize pain-free movement after an injury or to prevent injury. Their proven process of 1-on-1 care with an expert Doctor of Physical Therapy will help you get back to moving pain free\, whether it's going on a walk with your kids\, running a marathon\, or getting back the sport you love! In addition to physical therapy services\, they also offer dry needling\, cupping\, taping and more! They have a recovery room equipped with a full-spectrum infrared sauna\, a cold plunge\, and compression sleeves. Get in touch to learn about their full range of services today!\n\n\n\nECHO is excited to welcome Dr. Hunter McFall to the team!\n\n\n\nWEBSITE: Physical Therapy | Echo Physical Therapy And Athletics | Texas (echoathleticstx.com)\n\nPHONE: (210) 589-7314\n\nLOCATION: 1 FM 3351 Suite #140\, Bergheim\, TX. 78006
X-ALT-DESC;FMTTYPE=text/html:<span style="color:#000000\;"><span style="font-family: arial\; font-size: 14px\;">Join us for a ribbon cutting celebrating ECHO Physical Therapy and Athletics&#39\; new Physical Therapist!</span><br />\n<br style="font-family: arial\; font-size: 14px\;" />\n<span style="font-size:14px\;"><span style="font-family:arial\;">The mission of ECHO Physical Therapy and Athletics is to provide individuals access to pro-athlete level physical therapy and performance training to optimize pain-free movement after an injury or to prevent injury. Their proven process of 1-on-1 care with an expert Doctor of Physical Therapy will help you get back to moving pain free\, whether it&rsquo\;s going on a walk with your kids\, running a marathon\, or getting back the sport you love! In addition to physical therapy services\, they also offer dry needling\, cupping\, taping and more! They have a recovery room equipped with a full-spectrum infrared sauna\, a cold plunge\, and compression sleeves. Get in touch to learn about their full range of services today!<br />\n<br />\nECHO is excited to welcome Dr. Hunter McFall to the team!</span></span><br style="font-family: arial\; font-size: 14px\;" />\n<br />\n<span style="font-size:14px\;"><span style="font-family:arial\;">WEBSITE:&nbsp\;</span></span></span><a href="https://www.echoathleticstx.com/"><span style="color:#000000\;">Physical Therapy | Echo Physical Therapy And Athletics | Texas (echoathleticstx.com)</span></a><br />\n<span style="color:#000000\;"><span style="font-size:14px\;"><span style="font-family:arial\;">PHONE: (210) 589-7314<br />\nLOCATION: 1 FM 3351 Suite #140\, Bergheim\, TX. 78006</span></span></span>
LOCATION:ECHO Physical Therapy and Athletics 1 FM 3351 Suite #140 Bergheim\, TX. 78006
UID:e.187.32241
SEQUENCE:3
DTSTAMP:20260420T065704Z
URL:https://business.boerne.org/events/details/ribbon-cutting-for-echo-physical-therapy-and-athletics-32241
END:VEVENT

END:VCALENDAR
