BEGIN:VCALENDAR
VERSION:2.0
PRODID:-//ChamberMaster//Event Calendar 2.0//EN
METHOD:PUBLISH
X-PUBLISHED-TTL:P3D
REFRESH-INTERVAL:P3D
CALSCALE:GREGORIAN
BEGIN:VEVENT
DTSTART:20230110T173000Z
DTEND:20230110T180000Z
X-MICROSOFT-CDO-ALLDAYEVENT:FALSE
SUMMARY:Ribbon Cutting for Echo Physical Therapy and Athletics
DESCRIPTION:Join us for a ribbon cutting celebrating ECHO Physical Therapy and Athletics!\n\n\n\nThe mission of ECHO Physical Therapy and Athletics is to provide active individuals access to pro-athlete level physical therapy and performance training to optimize pain-free movement. They incorporate their 3-step process\, ECHO\, into each session to get their clients back out to perform their regular\, everyday activities. In addition to physical therapy services\, they also offer dry needling\, cupping\, taping and more! To schedule an appointment\, or to learn more about ECHO\, click here!
X-ALT-DESC;FMTTYPE=text/html:<span style="font-size:14px\;"><span style="font-family:arial\;">Join us for a ribbon cutting celebrating ECHO Physical Therapy and Athletics!<br />\n<br />\nThe mission of ECHO Physical Therapy and Athletics is to provide active individuals access to pro-athlete level physical therapy and performance training to optimize pain-free movement. They incorporate their 3-step process\, ECHO\, into each session to get their clients back out to perform their regular\, everyday activities. In addition to physical therapy services\, they also offer dry needling\, cupping\, taping and more! To schedule an appointment\, or to learn more about ECHO\, <a href="https://www.echoathleticstx.com/">click here!</a></span></span>
LOCATION:ECHO Physical Therapy and Athletics 1 FM 3351 Suite #140 Bergheim\, TX. 78006
UID:e.187.20678
SEQUENCE:3
DTSTAMP:20260423T084613Z
URL:https://business.boerne.org/events/details/ribbon-cutting-for-echo-physical-therapy-and-athletics-20678
END:VEVENT

END:VCALENDAR
