BEGIN:VCALENDAR
VERSION:2.0
PRODID:-//ChamberMaster//Event Calendar 2.0//EN
METHOD:PUBLISH
X-PUBLISHED-TTL:P3D
REFRESH-INTERVAL:P3D
CALSCALE:GREGORIAN
BEGIN:VEVENT
DTSTART:20190528T183000Z
DTEND:20190528T190000Z
X-MICROSOFT-CDO-ALLDAYEVENT:FALSE
SUMMARY:Ribbon Cutting for Driskill Films
DESCRIPTION:Join us for a ribbon cutting celebrating Driskill Films!\n\n\n\nUtilizing their unique background in narrative filmmaking\, Driskill Films brings music videos\, commercials\, live events\, documentaries\, wedding films\, and more to life with cinematic\, engaging\, and story-driven work.
X-ALT-DESC;FMTTYPE=text/html:Join us for a ribbon cutting celebrating Driskill Films!<br />\n<br />\nUtilizing their unique background in narrative filmmaking\, Driskill Films brings music videos\, commercials\, live events\, documentaries\, wedding films\, and more to life with cinematic\, engaging\, and story-driven work.
LOCATION:Boerne Chamber of Commerce Boardroom 121 S. Main St. Boerne\, TX 78006
UID:e.187.16392
SEQUENCE:3
DTSTAMP:20260419T143408Z
URL:https://business.boerne.org/events/details/ribbon-cutting-for-driskill-films-16392
END:VEVENT

END:VCALENDAR
