BEGIN:VCALENDAR
VERSION:2.0
PRODID:-//ChamberMaster//Event Calendar 2.0//EN
METHOD:PUBLISH
X-PUBLISHED-TTL:P3D
REFRESH-INTERVAL:P3D
CALSCALE:GREGORIAN
BEGIN:VEVENT
DTSTART:20180322T214500Z
DTEND:20180322T220000Z
X-MICROSOFT-CDO-ALLDAYEVENT:FALSE
SUMMARY:Ribbon Cutting for Dietz McLean Optical Company Inc.
DESCRIPTION:Come join us for a Ribbon Cutting Ceremony for Dietz McLean Optical Company\, Inc.. (link)
X-ALT-DESC;FMTTYPE=text/html:Come join us for a Ribbon Cutting Ceremony for Dietz McLean Optical Company\, Inc.. (<a href="https://www.dmoptical.com/">link</a>)
LOCATION:Dietz-McLean Optical Company Inc. 1375 S Main Ste. 201 Boerne\, TX 78006
UID:e.187.13544
SEQUENCE:3
DTSTAMP:20260422T120925Z
URL:https://business.boerne.org/events/details/ribbon-cutting-for-dietz-mclean-optical-company-inc-13544
END:VEVENT

END:VCALENDAR
