BEGIN:VCALENDAR
VERSION:2.0
PRODID:-//ChamberMaster//Event Calendar 2.0//EN
METHOD:PUBLISH
X-PUBLISHED-TTL:P3D
REFRESH-INTERVAL:P3D
CALSCALE:GREGORIAN
BEGIN:VEVENT
DTSTART:20181115T173000Z
DTEND:20181115T180000Z
X-MICROSOFT-CDO-ALLDAYEVENT:FALSE
SUMMARY:Ribbon Cutting for Diamond Decks
DESCRIPTION:Join us for a Ribbon Cutting Ceremony for Diamond Decks!
X-ALT-DESC;FMTTYPE=text/html:Join us for a Ribbon Cutting Ceremony for Diamond Decks!
LOCATION:Diamond Decks Showroom 9238 TX-1604 Loop San Antonio\, TX 78249 Diamond Decks is located inside H-E-B Plus!
UID:e.187.15126
SEQUENCE:3
DTSTAMP:20260419T235103Z
URL:https://business.boerne.org/events/details/ribbon-cutting-for-diamond-decks-15126
END:VEVENT

END:VCALENDAR
