BEGIN:VCALENDAR
VERSION:2.0
PRODID:-//ChamberMaster//Event Calendar 2.0//EN
METHOD:PUBLISH
X-PUBLISHED-TTL:P3D
REFRESH-INTERVAL:P3D
CALSCALE:GREGORIAN
BEGIN:VEVENT
DTSTART:20191022T183000Z
DTEND:20191022T190000Z
X-MICROSOFT-CDO-ALLDAYEVENT:FALSE
SUMMARY:Ribbon Cutting for Debi Lane with ID Life
DESCRIPTION:Join us for a ribbon cutting celebrating Debi Lane with ID Life!\n\n\n\nDebi Lane with ID Life helps people assess their health through DNA testing and provides solutions. Her services fill in the gaps for optimal health and wellness such as weight loss\, healthy energy\, quality sleep\, pro/post workouts and PR.
X-ALT-DESC;FMTTYPE=text/html:Join us for a ribbon cutting celebrating Debi Lane with ID Life!<br />\n<br />\nDebi Lane with ID Life helps people assess their health through DNA testing and provides solutions. Her services fill in the gaps for optimal health and wellness such as weight loss\, healthy energy\, quality sleep\, pro/post workouts and PR.
LOCATION:Boerne Chamber of Commerce Boardroom 121 S. Main St. Boerne\, TX 78006
UID:e.187.16778
SEQUENCE:3
DTSTAMP:20260419T191812Z
URL:https://business.boerne.org/events/details/ribbon-cutting-for-debi-lane-with-id-life-16778
END:VEVENT

END:VCALENDAR
