BEGIN:VCALENDAR
VERSION:2.0
PRODID:-//ChamberMaster//Event Calendar 2.0//EN
METHOD:PUBLISH
X-PUBLISHED-TTL:P3D
REFRESH-INTERVAL:P3D
CALSCALE:GREGORIAN
BEGIN:VEVENT
DTSTART:20191203T173000Z
DTEND:20191203T180000Z
X-MICROSOFT-CDO-ALLDAYEVENT:FALSE
SUMMARY:Ribbon Cutting for D1 Training
DESCRIPTION:Join us for a ribbon cutting celebrating D1 Training!\n\n\n\nAt D1\, they believe in training the entire body as a unit to produce optimal human performance. No gimmicks\, no fads\; D1 utilizes trusted and proven training techniques used to build the world's best athletes.
X-ALT-DESC;FMTTYPE=text/html:Join us for a ribbon cutting celebrating D1 Training!<br />\n<br />\nAt D1\, they believe in training the entire body as a unit to produce optimal human performance. No gimmicks\, no fads\; D1 utilizes trusted and proven training techniques used to build the world&#39\;s best athletes.
LOCATION:132 Old San Antonio Rd. Boerne\, TX 78006
UID:e.187.17120
SEQUENCE:3
DTSTAMP:20260425T214804Z
URL:https://business.boerne.org/events/details/ribbon-cutting-for-d1-training-17120
END:VEVENT

END:VCALENDAR
