BEGIN:VCALENDAR
VERSION:2.0
PRODID:-//ChamberMaster//Event Calendar 2.0//EN
METHOD:PUBLISH
X-PUBLISHED-TTL:P3D
REFRESH-INTERVAL:P3D
CALSCALE:GREGORIAN
BEGIN:VEVENT
DTSTART:20181201T160000Z
DTEND:20181201T163000Z
X-MICROSOFT-CDO-ALLDAYEVENT:FALSE
SUMMARY:Ribbon Cutting for Crossfit Boerne
DESCRIPTION:Come join us for the grand opening ribbon cutting ceremony for Crossfit Boerne
X-ALT-DESC;FMTTYPE=text/html:Come join us for the grand opening ribbon cutting ceremony for Crossfit Boerne
LOCATION:30875 IH 10 W.\, Boerne\, TX 78006
UID:e.187.15315
SEQUENCE:3
DTSTAMP:20260420T001804Z
URL:https://business.boerne.org/events/details/ribbon-cutting-for-crossfit-boerne-15315
END:VEVENT

END:VCALENDAR
