BEGIN:VCALENDAR
VERSION:2.0
PRODID:-//ChamberMaster//Event Calendar 2.0//EN
METHOD:PUBLISH
X-PUBLISHED-TTL:P3D
REFRESH-INTERVAL:P3D
CALSCALE:GREGORIAN
BEGIN:VEVENT
DTSTART:20190829T163000Z
DTEND:20190829T170000Z
X-MICROSOFT-CDO-ALLDAYEVENT:FALSE
SUMMARY:Ribbon Cutting for Crestmont Christian Preparatory School
DESCRIPTION:Join us for a ribbon cutting celebrating Crestmont Christian Preparatory School!\n\n\n\nCrestmont Christian Preparatory School is a Certified University-Model School  and a member of UMSI\, Inc. (University Model Schools International).  Crestmont Prep is also an AdvancED accredited school.
X-ALT-DESC;FMTTYPE=text/html:Join us for a ribbon cutting celebrating Crestmont Christian Preparatory School!<br />\n<br />\nCrestmont Christian Preparatory School is a Certified University-Model School&reg\; and a member of UMSI\, Inc. (University Model Schools International).&nbsp\; Crestmont Prep is also an AdvancED accredited school.
LOCATION:631 S. School St. Boerne\, TX 78006
UID:e.187.16729
SEQUENCE:3
DTSTAMP:20260419T175314Z
URL:https://business.boerne.org/events/details/ribbon-cutting-for-crestmont-christian-preparatory-school-16729
END:VEVENT

END:VCALENDAR
