BEGIN:VCALENDAR
VERSION:2.0
PRODID:-//ChamberMaster//Event Calendar 2.0//EN
METHOD:PUBLISH
X-PUBLISHED-TTL:P3D
REFRESH-INTERVAL:P3D
CALSCALE:GREGORIAN
BEGIN:VEVENT
DTSTART:20170530T223000Z
DTEND:20170530T230000Z
X-MICROSOFT-CDO-ALLDAYEVENT:FALSE
SUMMARY:Ribbon Cutting for Creative Parc New Location and Celebrating their 5 Year Anniversary
DESCRIPTION:Come join us to celebrate Creative Parc New Location and 5th Year Anniversary. (link)
X-ALT-DESC;FMTTYPE=text/html:Come join us to celebrate Creative Parc New Location and 5th Year Anniversary. (<a href="http://creativeparc.com/">link</a>)
LOCATION:9910 Huebner Ste. 222 (map) San Antonio\, TX 78240
UID:e.187.11659
SEQUENCE:3
DTSTAMP:20260423T041057Z
URL:https://business.boerne.org/events/details/ribbon-cutting-for-creative-parc-new-location-and-celebrating-their-5-year-anniversary-11659
END:VEVENT

END:VCALENDAR
