BEGIN:VCALENDAR
VERSION:2.0
PRODID:-//ChamberMaster//Event Calendar 2.0//EN
METHOD:PUBLISH
X-PUBLISHED-TTL:P3D
REFRESH-INTERVAL:P3D
CALSCALE:GREGORIAN
BEGIN:VEVENT
DTSTART:20190416T163000Z
DTEND:20190416T170000Z
X-MICROSOFT-CDO-ALLDAYEVENT:FALSE
SUMMARY:Ribbon Cutting for Connections Speech-Language Therapy
DESCRIPTION:Join us for a ribbon cutting ceremony celebrating Connections Speech-Language Therapy!
X-ALT-DESC;FMTTYPE=text/html:Join us for a ribbon cutting ceremony celebrating&nbsp\;Connections Speech-Language Therapy!
LOCATION:Connections Speech-Language Therapy 28604 IH 10 West Suite 8 Boerne\, TX 78006
UID:e.187.16349
SEQUENCE:3
DTSTAMP:20260419T174124Z
URL:https://business.boerne.org/events/details/ribbon-cutting-for-connections-speech-language-therapy-16349
END:VEVENT

END:VCALENDAR
