BEGIN:VCALENDAR
VERSION:2.0
PRODID:-//ChamberMaster//Event Calendar 2.0//EN
METHOD:PUBLISH
X-PUBLISHED-TTL:P3D
REFRESH-INTERVAL:P3D
CALSCALE:GREGORIAN
BEGIN:VEVENT
DTSTART:20190418T214500Z
DTEND:20190419T000000Z
X-MICROSOFT-CDO-ALLDAYEVENT:FALSE
SUMMARY:Ribbon Cutting for Coldfire Safety Services
DESCRIPTION:Join us for a special ribbon cutting celebrating Coldfire Safety Services!\n\n\n\nPizza and refreshments will be served.
X-ALT-DESC;FMTTYPE=text/html:Join us for a special ribbon cutting celebrating Coldfire Safety Services!<br />\n<br />\nPizza and refreshments will be served.
LOCATION:Z's Wood Fired Pizza 118 Old San Antonio Rd. Boerne\, TX 78006
UID:e.187.16337
SEQUENCE:3
DTSTAMP:20260419T160719Z
URL:https://business.boerne.org/events/details/ribbon-cutting-for-coldfire-safety-services-16337
END:VEVENT

END:VCALENDAR
