BEGIN:VCALENDAR
VERSION:2.0
PRODID:-//ChamberMaster//Event Calendar 2.0//EN
METHOD:PUBLISH
X-PUBLISHED-TTL:P3D
REFRESH-INTERVAL:P3D
CALSCALE:GREGORIAN
BEGIN:VEVENT
DTSTART:20210128T173000Z
DTEND:20210128T180000Z
X-MICROSOFT-CDO-ALLDAYEVENT:FALSE
SUMMARY:Ribbon Cutting for Code Ninjas Boerne
DESCRIPTION:Join us for a ribbon cutting celebrating Code Ninjas Boerne! \n\n\n\nCode Ninjas is the world's largest and fastest growing kids coding franchise\, with hundreds of locations in the United States\, Canada and the United Kingdom. At Code Ninjas\, kids learn to code while building their own video games. They gain problem solving\, critical thinking\, and STEM skills in a fun\, safe and inspiring environment. Spark your child's inner ninja with Code Ninjas classes and camps today.
X-ALT-DESC;FMTTYPE=text/html:<span style="font-family:arial\;">Join us for a ribbon cutting celebrating Code Ninjas Boerne!&nbsp\;<br />\n<br />\nCode Ninjas is the world&#39\;s largest and fastest growing kids coding franchise\, with hundreds of locations in the United States\, Canada and the United Kingdom. At Code Ninjas\, kids learn to code while building their own video games. They gain problem solving\, critical thinking\, and STEM skills in a fun\, safe and inspiring environment. Spark your child&#39\;s inner ninja with Code Ninjas classes and camps today.</span>
LOCATION:28255 IH 10 West Suite 104 Boerne\, Texas 78006
UID:e.187.18523
SEQUENCE:3
DTSTAMP:20260425T020000Z
URL:https://business.boerne.org/events/details/ribbon-cutting-for-code-ninjas-boerne-18523
END:VEVENT

END:VCALENDAR
