BEGIN:VCALENDAR
VERSION:2.0
PRODID:-//ChamberMaster//Event Calendar 2.0//EN
METHOD:PUBLISH
X-PUBLISHED-TTL:P3D
REFRESH-INTERVAL:P3D
CALSCALE:GREGORIAN
BEGIN:VEVENT
DTSTART:20170325T170000Z
DTEND:20170325T190000Z
X-MICROSOFT-CDO-ALLDAYEVENT:FALSE
SUMMARY:Ribbon Cutting for City of Boerne Art al Fresco
DESCRIPTION:Come join us for a Ribbon Cutting for Art al Fresco for the City of Boerne.
X-ALT-DESC;FMTTYPE=text/html:Come join us for a Ribbon Cutting for <span style="font-family: &quot\;Calibri&quot\;\,&quot\;sans-serif&quot\;\; font-size: 12pt\; mso-fareast-font-family: Gulim\; mso-bidi-font-family: Gulim\; mso-ansi-language: EN-US\; mso-fareast-language: KO\; mso-bidi-language: AR-SA\;"><font color="#000000">Art al Fresco for the City of Boerne.</font></span>
LOCATION:Patrick Heath Public Library - Amphitheater 451 N Main St Ste. 100 Boerne\, TX 78006
UID:e.187.11569
SEQUENCE:3
DTSTAMP:20260423T071936Z
URL:https://business.boerne.org/events/details/ribbon-cutting-for-city-of-boerne-art-al-fresco-11569
END:VEVENT

END:VCALENDAR
