BEGIN:VCALENDAR
VERSION:2.0
PRODID:-//ChamberMaster//Event Calendar 2.0//EN
METHOD:PUBLISH
X-PUBLISHED-TTL:P3D
REFRESH-INTERVAL:P3D
CALSCALE:GREGORIAN
BEGIN:VEVENT
DTSTART:20180524T220000Z
DTEND:20180524T230000Z
X-MICROSOFT-CDO-ALLDAYEVENT:FALSE
SUMMARY:Ribbon Cutting for Christus Family Medicine
DESCRIPTION:Come join us for a Ribbon Cutting for Christus Family Medicine- Boerne.
X-ALT-DESC;FMTTYPE=text/html:Come join us for a Ribbon Cutting for Christus Family Medicine- Boerne.
LOCATION:Christus Family Medicine- Boerne 1201 South Main \, Ste. 114 Boerne\, TX 78006
UID:e.187.13918
SEQUENCE:3
DTSTAMP:20260420T093706Z
URL:https://business.boerne.org/events/details/ribbon-cutting-for-christus-family-medicine-13918
END:VEVENT

END:VCALENDAR
