BEGIN:VCALENDAR
VERSION:2.0
PRODID:-//ChamberMaster//Event Calendar 2.0//EN
METHOD:PUBLISH
X-PUBLISHED-TTL:P3D
REFRESH-INTERVAL:P3D
CALSCALE:GREGORIAN
BEGIN:VEVENT
DTSTART:20250520T163000Z
DTEND:20250520T170000Z
X-MICROSOFT-CDO-ALLDAYEVENT:FALSE
SUMMARY:Ribbon Cutting for Chicago Title
DESCRIPTION:Join us for a ribbon cutting celebrating Chicago Title's NEW Location!\n\n\n\nChicago Title has deep roots going back to 1847\, and has been happily serving the Boerne area for years now! They are here to make your dreams a reality in the Hill Country area\, as they are a widely trusted and reliable title company. Serving a wide range of customers that include real estate professionals\, lenders\, builders\, buyers and sellers\, attorneys and commercial customers\, they'll be able to assist you in any way. Chicago Title also has a ChicagoAgent ONE app for quick and easy access to accurate estimates for buyers and sellers. \n\n\n\nChicago Title is celebrating their new location on Herff Road!\n\n\n\nWEBSITE: Chicago Title | San Antonio - Home | sanantonio.ctic.com\n\nPHONE: (210) 482-3600\n\nLOCATION: 116 Herff Rd.\, Suite 206\, Boerne\, TX 78006
X-ALT-DESC;FMTTYPE=text/html:<span style="color:#000000\;"><font face="arial"><span style="font-size: 14px\;">Join us for a ribbon cutting celebrating Chicago Title&#39\;s NEW Location!</span></font><br />\n<br />\n<font face="arial"><span style="font-size: 14px\;">Chicago Title has deep roots going back to 1847\, and has been happily serving the Boerne area for years now! They are here to make your dreams a reality in the Hill Country area\, as they are a widely&nbsp\;trusted and reliable title company. Serving a wide range of customers that include real estate professionals\, lenders\, builders\, buyers and sellers\, attorneys and commercial customers\, they&#39\;ll be able to assist you in any way. Chicago Title also has a ChicagoAgent ONE app for quick and easy access to accurate estimates for buyers and sellers.&nbsp\;</span></font><br />\n<br />\n<span style="font-size:14px\;"><span style="font-family:arial\;">Chicago Title is celebrating their new location on Herff Road!<br />\n<br />\nWEBSITE:&nbsp\;</span></span></span><a href="https://sanantonio.ctic.com/"><span style="color:#000000\;">Chicago Title | San Antonio - Home | sanantonio.ctic.com</span></a><br />\n<span style="color:#000000\;"><span style="font-size:14px\;"><span style="font-family:arial\;">PHONE: (210) 482-3600<br />\nLOCATION: 116 Herff Rd.\, Suite 206\, Boerne\, TX 78006</span></span></span>
LOCATION:Chicago Title 116 Herff Rd.\, Suite 206 Boerne\, TX. 78006
UID:e.187.29380
SEQUENCE:3
DTSTAMP:20260419T143338Z
URL:https://business.boerne.org/events/details/ribbon-cutting-for-chicago-title-29380
END:VEVENT

END:VCALENDAR
