BEGIN:VCALENDAR
VERSION:2.0
PRODID:-//ChamberMaster//Event Calendar 2.0//EN
METHOD:PUBLISH
X-PUBLISHED-TTL:P3D
REFRESH-INTERVAL:P3D
CALSCALE:GREGORIAN
BEGIN:VEVENT
DTSTART:20260319T163000Z
DTEND:20260319T170000Z
X-MICROSOFT-CDO-ALLDAYEVENT:FALSE
SUMMARY:Ribbon Cutting for Celebrations Gift Service
DESCRIPTION:Join us for a ribbon cutting celebrating Celebrations Gift Service!\n\n\n\nCelebrations Gift Service is a locally owned personal gift shopping and service business that specializes in curated and customizable gifts for every occasion. From birthdays and anniversaries to weddings\, holidays\, and corporate events\, the company works with clients to hand-select items from local boutiques and vendors and assemble beautifully wrapped baskets and packages tailored to each recipient and budget. Known for its attentive service and thoughtful presentation\, Celebrations Gift Service helps customers celebrate life's special moments with meaningful and memorable gifts.\n\n\n\nWEBSITE: Celebrations Gift Service | Boerne TX | Facebook\n\nPHONE: (956) 802-3123
X-ALT-DESC;FMTTYPE=text/html:<span style="font-size:14px\;"><span style="font-family:arial\;"><span style="color:#000000\;">Join us for a ribbon cutting celebrating Celebrations Gift Service!<br />\n<br />\n<strong data-end="41" data-start="0">Celebrations Gift Service</strong> is a locally owned personal gift shopping and service business that specializes in curated and customizable gifts for every occasion. From birthdays and anniversaries to weddings\, holidays\, and corporate events\, the company works with clients to hand-select items from local boutiques and vendors and assemble beautifully wrapped baskets and packages tailored to each recipient and budget. Known for its attentive service and thoughtful presentation\, Celebrations Gift Service helps customers celebrate life&rsquo\;s special moments with meaningful and memorable gifts.</span></span></span><br />\n<br />\n<span style="color:#000000\;">WEBSITE:&nbsp\;</span><a href="https://www.facebook.com/celebrationsgiftservice">Celebrations Gift Service | Boerne TX | Facebook</a><br />\n<span style="color:#000000\;">PHONE: (956) 802-3123</span><br />\n<br />\n&nbsp\;
LOCATION:Salty & Sweet 123 N Main St Boerne\, TX 78006
UID:e.187.32240
SEQUENCE:3
DTSTAMP:20260420T065540Z
URL:https://business.boerne.org/events/details/ribbon-cutting-for-celebrations-gift-service-32240
END:VEVENT

END:VCALENDAR
